BEGIN:VCALENDAR
VERSION:2.0
PRODID:-//Legal Action Worldwide - ECPv6.15.20//NONSGML v1.0//EN
CALSCALE:GREGORIAN
METHOD:PUBLISH
X-ORIGINAL-URL:https://legalactionworldwide.org
X-WR-CALDESC:Events for Legal Action Worldwide
REFRESH-INTERVAL;VALUE=DURATION:PT1H
X-Robots-Tag:noindex
X-PUBLISHED-TTL:PT1H
BEGIN:VTIMEZONE
TZID:America/New_York
BEGIN:DAYLIGHT
TZOFFSETFROM:-0500
TZOFFSETTO:-0400
TZNAME:EDT
DTSTART:20230312T070000
END:DAYLIGHT
BEGIN:STANDARD
TZOFFSETFROM:-0400
TZOFFSETTO:-0500
TZNAME:EST
DTSTART:20231105T060000
END:STANDARD
BEGIN:DAYLIGHT
TZOFFSETFROM:-0500
TZOFFSETTO:-0400
TZNAME:EDT
DTSTART:20240310T070000
END:DAYLIGHT
BEGIN:STANDARD
TZOFFSETFROM:-0400
TZOFFSETTO:-0500
TZNAME:EST
DTSTART:20241103T060000
END:STANDARD
BEGIN:DAYLIGHT
TZOFFSETFROM:-0500
TZOFFSETTO:-0400
TZNAME:EDT
DTSTART:20250309T070000
END:DAYLIGHT
BEGIN:STANDARD
TZOFFSETFROM:-0400
TZOFFSETTO:-0500
TZNAME:EST
DTSTART:20251102T060000
END:STANDARD
END:VTIMEZONE
BEGIN:VEVENT
DTSTART;TZID=America/New_York:20240925T110000
DTEND;TZID=America/New_York:20240925T123000
DTSTAMP:20260422T161550
CREATED:20240916T091452Z
LAST-MODIFIED:20240916T091534Z
UID:7410-1727262000-1727267400@legalactionworldwide.org
SUMMARY:Roundtable discussion: Paving the way for accountability\, truth\, and reconciliation: a trust fund for victims of atrocity crimes in Myanmar
DESCRIPTION:Paving the way for accountability\, truth\, and reconciliation: a trust fund for victims of violence in Myanmar \nRoundtable Discussion during the 79th session of the UN General Assembly (UNGA 79)  \nThis roundtable discussion aims to initiate a dialogue to identify pathways for securing reparative measures for the victims of grave human rights violations and international crimes in Myanmar whilst the legal proceedings and investigations are underway. The discussion will explore the opportune role of the UNGA in steering the current accountability discourse away from punitive justice towards transformative justice through establishing a trust fund. \nKey speakers will include: \n\nHon’ble Dawda A. Jallow\, Attorney General and Minister of Justice of the Republic of The Gambia\nAmbassador Beth Van Schaack\, Ambassador-at-Large for Global Criminal Justice\, U.S. Department of State\nAung Kyaw Moe\, Deputy Minister\, Ministry of Human Rights\, National Unity Government\n\n 
URL:https://legalactionworldwide.org/event/roundtable-discussion-paving-the-way-for-accountability-truth-and-reconciliation-a-trust-fund-for-victims-of-atrocity-crimes-in-myanmar/
LOCATION:NYC Bar Association\, 42 W\, 44th St.\, New York\, NY\, United States
ATTACH;FMTTYPE=image/png:https://legalactionworldwide.org/wp-content/uploads/UNGA-Roundtable-Discussion-Legal-Action-Worldwide.png
END:VEVENT
END:VCALENDAR