BEGIN:VCALENDAR
VERSION:2.0
PRODID:-//Legal Action Worldwide - ECPv6.15.20//NONSGML v1.0//EN
CALSCALE:GREGORIAN
METHOD:PUBLISH
X-ORIGINAL-URL:https://legalactionworldwide.org
X-WR-CALDESC:Events for Legal Action Worldwide
REFRESH-INTERVAL;VALUE=DURATION:PT1H
X-Robots-Tag:noindex
X-PUBLISHED-TTL:PT1H
BEGIN:VTIMEZONE
TZID:Europe/London
BEGIN:DAYLIGHT
TZOFFSETFROM:+0000
TZOFFSETTO:+0100
TZNAME:BST
DTSTART:20240331T010000
END:DAYLIGHT
BEGIN:STANDARD
TZOFFSETFROM:+0100
TZOFFSETTO:+0000
TZNAME:GMT
DTSTART:20241027T010000
END:STANDARD
BEGIN:DAYLIGHT
TZOFFSETFROM:+0000
TZOFFSETTO:+0100
TZNAME:BST
DTSTART:20250330T010000
END:DAYLIGHT
BEGIN:STANDARD
TZOFFSETFROM:+0100
TZOFFSETTO:+0000
TZNAME:GMT
DTSTART:20251026T010000
END:STANDARD
BEGIN:DAYLIGHT
TZOFFSETFROM:+0000
TZOFFSETTO:+0100
TZNAME:BST
DTSTART:20260329T010000
END:DAYLIGHT
BEGIN:STANDARD
TZOFFSETFROM:+0100
TZOFFSETTO:+0000
TZNAME:GMT
DTSTART:20261025T010000
END:STANDARD
END:VTIMEZONE
BEGIN:VEVENT
DTSTART;TZID=Europe/London:20250519T163000
DTEND;TZID=Europe/London:20250519T173000
DTSTAMP:20260422T183716
CREATED:20250519T131115Z
LAST-MODIFIED:20250521T072948Z
UID:12793-1747672200-1747675800@legalactionworldwide.org
SUMMARY:EHF 2025: Protecting Frontline Humanitarians: the case for strengthened duty of care\, mental health support and survivor-centred accountability to local responders
DESCRIPTION:European Humanitarian Forum 2025\nProtecting Frontline Humanitarians: the case for strengthened duty of care\, mental health support and survivor-centred accountability to local responders\nLocal humanitarian responders face growing risks\, caught between the urgency of aid delivery and increasing violations of International Humanitarian Law. Despite their essential role\, they receive inadequate support\, with duty of care provisions and mental health resources largely skewed in favour of international agencies. Addressing this requires systemic change—embedding Duty of Care\, Mental Health and Psychosocial Support (MHPSS)\, and survivor-centred accountability as fundamental pillars of humanitarian action. \nThis Humanitarian Talk will highlight these urgent issues and advocate for reforms to better protect and support local responders. Participants will shed light on the psychological toll of frontline work and the need for improved duty of care and mental health support. Testimonies from local responders in Palestine\, Sudan\, and Ukraine will offer firsthand perspectives on challenges\, inequities in protection\, and barriers to accessing essential resources. A key focus will be Duty of Care\, including access to mental health and psychosocial support\, for frontline workers. \nAs attacks on humanitarian personnel reach record highs\, the panellists will also explore how access to justice and accountability mechanisms could be strengthened to protect responders and address violations against them. It will examine how recent international commitments – such as UNSC Resolution 2730 on the protection of humanitarian personnel – can translate into concrete actions that provide more protection and care for those on the frontlines. Ultimately\, this event aims to amplify local voices and push for meaningful reforms toward a more just\, equitable\, and survivor-centred humanitarian system. \nSpeakers \n\n\n\n\n\n\nAntonia Mulvey: Executive Director\, Legal Action Worldwide (LAW)\nSudhanshu S․ Singh: Founder & CEO\, Humanitarian Aid International\nHeidy Rombouts: Director General Development Cooperation and Humanitarian Aid\nOlivier Vandecasteele: Director\, Protect Humanitarians\nCátia Matos: MHPSS Technical Advisor\, RCRC Movement MHPSS Hub\nLiudmyla (Mila) Leonova: Director Alliance of Ukrainian Civil Society Organisations\nImad Abuhasira: Former Humanitarian Worker\nEva Tamber: Senior Consultant\, Protect Humanitarians
URL:https://legalactionworldwide.org/event/ehf-2025-protecting-frontline-humanitarians-the-case-for-strengthened-duty-of-care-mental-health-support-and-survivor-centred-accountability-to-local-responders/
LOCATION:Brussels\, Belgium\, Brussels\, Belgium
END:VEVENT
END:VCALENDAR