BEGIN:VCALENDAR
VERSION:2.0
PRODID:-//Legal Action Worldwide - ECPv6.15.20//NONSGML v1.0//EN
CALSCALE:GREGORIAN
METHOD:PUBLISH
X-WR-CALNAME:Legal Action Worldwide
X-ORIGINAL-URL:https://legalactionworldwide.org
X-WR-CALDESC:Events for Legal Action Worldwide
REFRESH-INTERVAL;VALUE=DURATION:PT1H
X-Robots-Tag:noindex
X-PUBLISHED-TTL:PT1H
BEGIN:VTIMEZONE
TZID:Europe/London
BEGIN:DAYLIGHT
TZOFFSETFROM:+0000
TZOFFSETTO:+0100
TZNAME:BST
DTSTART:20240331T010000
END:DAYLIGHT
BEGIN:STANDARD
TZOFFSETFROM:+0100
TZOFFSETTO:+0000
TZNAME:GMT
DTSTART:20241027T010000
END:STANDARD
BEGIN:DAYLIGHT
TZOFFSETFROM:+0000
TZOFFSETTO:+0100
TZNAME:BST
DTSTART:20250330T010000
END:DAYLIGHT
BEGIN:STANDARD
TZOFFSETFROM:+0100
TZOFFSETTO:+0000
TZNAME:GMT
DTSTART:20251026T010000
END:STANDARD
BEGIN:DAYLIGHT
TZOFFSETFROM:+0000
TZOFFSETTO:+0100
TZNAME:BST
DTSTART:20260329T010000
END:DAYLIGHT
BEGIN:STANDARD
TZOFFSETFROM:+0100
TZOFFSETTO:+0000
TZNAME:GMT
DTSTART:20261025T010000
END:STANDARD
END:VTIMEZONE
BEGIN:VEVENT
DTSTART;TZID=Europe/London:20250620T120000
DTEND;TZID=Europe/London:20250620T130000
DTSTAMP:20260424T154434
CREATED:20250613T074125Z
LAST-MODIFIED:20250618T085356Z
UID:13388-1750420800-1750424400@legalactionworldwide.org
SUMMARY:Justice and accountability for aid workers and health workers: What more can Geneva do?
DESCRIPTION:Since 2020\, nearly 1\,000 aid workers have been arbitrarily arrested or detained across various contexts. What can Geneva\, home to international human rights institutions\, do to better support justice and accountability for them? \nJoin us at the UN Human Rights Council for a crucial side event on justice and accountability for aid and health workers: \n🗓 Date: Friday\, 20 June 2025\n🕛 Time: 12:00–13:00\n📍 Location: Room XXV\, Palais des Nations\, Geneva \nThis important panel\, hosted by Legal Action Worldwide\, presents a critical opportunity to discuss stronger protections\, more effective investigations\, and access to international human rights mechanisms. \nSpeakers include:\n🇦🇺 H.E. Ms. Emily Roper\, Australian Department of Foreign Affairs and Trade\n🇨🇭 S.E. Mr. Julien Thöni\, Switzerland at the United Nations\n🇪🇺 H.E. Mr. Michele Cervone d’Urso\, Delegation of the European Union to the UN and other international organisations in Geneva\n🔹 Ms. Mary Lawlor\, UN Special Rapporteur on Human Rights Defenders\n🔹 Ms. Pauline Chetcuti\, Head of Humanitarian Advocacy and Campaigns\, Oxfam International\n🔹 Mr. Ramesh Rajasingham\, Head and Representative of United Nations OCHA in Geneva\n🔹 Ms. Antonia Mulvey\, Founder & Executive Director\, LAW\n🔹 Mr. Camille Gosselin\, Advocacy Manager\, Action Contre la Faim
URL:https://legalactionworldwide.org/event/justice-and-accountability-for-aid-workers-and-health-workers-what-more-can-geneva-do/
END:VEVENT
END:VCALENDAR